BEGIN:VCALENDAR
VERSION:2.0
PRODID:-//Jill Seabourne - ECPv6.15.20//NONSGML v1.0//EN
CALSCALE:GREGORIAN
METHOD:PUBLISH
X-ORIGINAL-URL:https://jillseabourne.com
X-WR-CALDESC:Events for Jill Seabourne
REFRESH-INTERVAL;VALUE=DURATION:PT1H
X-Robots-Tag:noindex
X-PUBLISHED-TTL:PT1H
BEGIN:VTIMEZONE
TZID:America/Chicago
BEGIN:DAYLIGHT
TZOFFSETFROM:-0600
TZOFFSETTO:-0500
TZNAME:CDT
DTSTART:20280312T080000
END:DAYLIGHT
BEGIN:STANDARD
TZOFFSETFROM:-0500
TZOFFSETTO:-0600
TZNAME:CST
DTSTART:20281105T070000
END:STANDARD
BEGIN:DAYLIGHT
TZOFFSETFROM:-0600
TZOFFSETTO:-0500
TZNAME:CDT
DTSTART:20290311T080000
END:DAYLIGHT
BEGIN:STANDARD
TZOFFSETFROM:-0500
TZOFFSETTO:-0600
TZNAME:CST
DTSTART:20291104T070000
END:STANDARD
BEGIN:DAYLIGHT
TZOFFSETFROM:-0600
TZOFFSETTO:-0500
TZNAME:CDT
DTSTART:20300310T080000
END:DAYLIGHT
BEGIN:STANDARD
TZOFFSETFROM:-0500
TZOFFSETTO:-0600
TZNAME:CST
DTSTART:20301103T070000
END:STANDARD
BEGIN:DAYLIGHT
TZOFFSETFROM:-0600
TZOFFSETTO:-0500
TZNAME:CDT
DTSTART:20310309T080000
END:DAYLIGHT
BEGIN:STANDARD
TZOFFSETFROM:-0500
TZOFFSETTO:-0600
TZNAME:CST
DTSTART:20311102T070000
END:STANDARD
BEGIN:DAYLIGHT
TZOFFSETFROM:-0600
TZOFFSETTO:-0500
TZNAME:CDT
DTSTART:20320314T080000
END:DAYLIGHT
BEGIN:STANDARD
TZOFFSETFROM:-0500
TZOFFSETTO:-0600
TZNAME:CST
DTSTART:20321107T070000
END:STANDARD
END:VTIMEZONE
BEGIN:VEVENT
DTSTART;TZID=America/Chicago:20291113T170000
DTEND;TZID=America/Chicago:20291113T173000
DTSTAMP:20260422T172933
CREATED:20241119T031532Z
LAST-MODIFIED:20260205T222609Z
UID:10000154-1889283600-1889285400@jillseabourne.com
SUMMARY:Group Trance Medium Healing Circle
DESCRIPTION:You’re warmly invited into a shared space of trance medium healing and spiritual support\, held twice each month via Zoom. \nThese gatherings offer a calm and receptive environment to pause\, settle in\, and receive within a supportive group field. Each session unfolds naturally and may offer a sense of restoration\, clarity\, or quiet reconnection. \nOpen to both new and returning participants. \nSessions are included with the monthly healing circle membership and are recorded for replay access. \nJoin the Healing Circle \n 
URL:https://jillseabourne.com/event/group-trance-medium-healing/2029-11-13/
END:VEVENT
BEGIN:VEVENT
DTSTART;TZID=America/Chicago:20291122T110000
DTEND;TZID=America/Chicago:20291122T113000
DTSTAMP:20260422T172933
CREATED:20241119T032753Z
LAST-MODIFIED:20260205T222352Z
UID:10000234-1890039600-1890041400@jillseabourne.com
SUMMARY:Group Trance Medium Healing Circle
DESCRIPTION:You’re warmly invited into a shared space of trance medium healing and spiritual support\, held twice each month via Zoom. \nThese gatherings offer a calm and receptive environment to pause\, settle in\, and receive within a supportive group field. Each session unfolds naturally and may offer a sense of restoration\, clarity\, or quiet reconnection. \nOpen to both new and returning participants. \nSessions are included with the monthly healing circle membership and are recorded for replay access. \nJoin the Healing Circle
URL:https://jillseabourne.com/event/group-trance-medium-healing-2/2029-11-22/
END:VEVENT
BEGIN:VEVENT
DTSTART;TZID=America/Chicago:20291211T170000
DTEND;TZID=America/Chicago:20291211T173000
DTSTAMP:20260422T172933
CREATED:20241119T031532Z
LAST-MODIFIED:20260205T222609Z
UID:10000236-1891702800-1891704600@jillseabourne.com
SUMMARY:Group Trance Medium Healing Circle
DESCRIPTION:You’re warmly invited into a shared space of trance medium healing and spiritual support\, held twice each month via Zoom. \nThese gatherings offer a calm and receptive environment to pause\, settle in\, and receive within a supportive group field. Each session unfolds naturally and may offer a sense of restoration\, clarity\, or quiet reconnection. \nOpen to both new and returning participants. \nSessions are included with the monthly healing circle membership and are recorded for replay access. \nJoin the Healing Circle \n 
URL:https://jillseabourne.com/event/group-trance-medium-healing/2029-12-11/
END:VEVENT
BEGIN:VEVENT
DTSTART;TZID=America/Chicago:20291227T110000
DTEND;TZID=America/Chicago:20291227T113000
DTSTAMP:20260422T172933
CREATED:20241119T032753Z
LAST-MODIFIED:20260205T222352Z
UID:10000235-1893063600-1893065400@jillseabourne.com
SUMMARY:Group Trance Medium Healing Circle
DESCRIPTION:You’re warmly invited into a shared space of trance medium healing and spiritual support\, held twice each month via Zoom. \nThese gatherings offer a calm and receptive environment to pause\, settle in\, and receive within a supportive group field. Each session unfolds naturally and may offer a sense of restoration\, clarity\, or quiet reconnection. \nOpen to both new and returning participants. \nSessions are included with the monthly healing circle membership and are recorded for replay access. \nJoin the Healing Circle
URL:https://jillseabourne.com/event/group-trance-medium-healing-2/2029-12-27/
END:VEVENT
BEGIN:VEVENT
DTSTART;TZID=America/Chicago:20300108T170000
DTEND;TZID=America/Chicago:20300108T173000
DTSTAMP:20260422T172933
CREATED:20241119T031532Z
LAST-MODIFIED:20260205T222609Z
UID:10000237-1894122000-1894123800@jillseabourne.com
SUMMARY:Group Trance Medium Healing Circle
DESCRIPTION:You’re warmly invited into a shared space of trance medium healing and spiritual support\, held twice each month via Zoom. \nThese gatherings offer a calm and receptive environment to pause\, settle in\, and receive within a supportive group field. Each session unfolds naturally and may offer a sense of restoration\, clarity\, or quiet reconnection. \nOpen to both new and returning participants. \nSessions are included with the monthly healing circle membership and are recorded for replay access. \nJoin the Healing Circle \n 
URL:https://jillseabourne.com/event/group-trance-medium-healing/2030-01-08/
END:VEVENT
BEGIN:VEVENT
DTSTART;TZID=America/Chicago:20300124T110000
DTEND;TZID=America/Chicago:20300124T113000
DTSTAMP:20260422T172933
CREATED:20241119T032753Z
LAST-MODIFIED:20260205T222352Z
UID:10000240-1895482800-1895484600@jillseabourne.com
SUMMARY:Group Trance Medium Healing Circle
DESCRIPTION:You’re warmly invited into a shared space of trance medium healing and spiritual support\, held twice each month via Zoom. \nThese gatherings offer a calm and receptive environment to pause\, settle in\, and receive within a supportive group field. Each session unfolds naturally and may offer a sense of restoration\, clarity\, or quiet reconnection. \nOpen to both new and returning participants. \nSessions are included with the monthly healing circle membership and are recorded for replay access. \nJoin the Healing Circle
URL:https://jillseabourne.com/event/group-trance-medium-healing-2/2030-01-24/
END:VEVENT
BEGIN:VEVENT
DTSTART;TZID=America/Chicago:20300212T170000
DTEND;TZID=America/Chicago:20300212T173000
DTSTAMP:20260422T172933
CREATED:20241119T031532Z
LAST-MODIFIED:20260205T222609Z
UID:10000252-1897146000-1897147800@jillseabourne.com
SUMMARY:Group Trance Medium Healing Circle
DESCRIPTION:You’re warmly invited into a shared space of trance medium healing and spiritual support\, held twice each month via Zoom. \nThese gatherings offer a calm and receptive environment to pause\, settle in\, and receive within a supportive group field. Each session unfolds naturally and may offer a sense of restoration\, clarity\, or quiet reconnection. \nOpen to both new and returning participants. \nSessions are included with the monthly healing circle membership and are recorded for replay access. \nJoin the Healing Circle \n 
URL:https://jillseabourne.com/event/group-trance-medium-healing/2030-02-12/
END:VEVENT
BEGIN:VEVENT
DTSTART;TZID=America/Chicago:20300228T110000
DTEND;TZID=America/Chicago:20300228T113000
DTSTAMP:20260422T172933
CREATED:20241119T032753Z
LAST-MODIFIED:20260205T222352Z
UID:10000241-1898506800-1898508600@jillseabourne.com
SUMMARY:Group Trance Medium Healing Circle
DESCRIPTION:You’re warmly invited into a shared space of trance medium healing and spiritual support\, held twice each month via Zoom. \nThese gatherings offer a calm and receptive environment to pause\, settle in\, and receive within a supportive group field. Each session unfolds naturally and may offer a sense of restoration\, clarity\, or quiet reconnection. \nOpen to both new and returning participants. \nSessions are included with the monthly healing circle membership and are recorded for replay access. \nJoin the Healing Circle
URL:https://jillseabourne.com/event/group-trance-medium-healing-2/2030-02-28/
END:VEVENT
BEGIN:VEVENT
DTSTART;TZID=America/Chicago:20300312T170000
DTEND;TZID=America/Chicago:20300312T173000
DTSTAMP:20260422T172933
CREATED:20241119T031532Z
LAST-MODIFIED:20260205T222609Z
UID:10000253-1899565200-1899567000@jillseabourne.com
SUMMARY:Group Trance Medium Healing Circle
DESCRIPTION:You’re warmly invited into a shared space of trance medium healing and spiritual support\, held twice each month via Zoom. \nThese gatherings offer a calm and receptive environment to pause\, settle in\, and receive within a supportive group field. Each session unfolds naturally and may offer a sense of restoration\, clarity\, or quiet reconnection. \nOpen to both new and returning participants. \nSessions are included with the monthly healing circle membership and are recorded for replay access. \nJoin the Healing Circle \n 
URL:https://jillseabourne.com/event/group-trance-medium-healing/2030-03-12/
END:VEVENT
BEGIN:VEVENT
DTSTART;TZID=America/Chicago:20300328T110000
DTEND;TZID=America/Chicago:20300328T113000
DTSTAMP:20260422T172933
CREATED:20241119T032753Z
LAST-MODIFIED:20260205T222352Z
UID:10000242-1900926000-1900927800@jillseabourne.com
SUMMARY:Group Trance Medium Healing Circle
DESCRIPTION:You’re warmly invited into a shared space of trance medium healing and spiritual support\, held twice each month via Zoom. \nThese gatherings offer a calm and receptive environment to pause\, settle in\, and receive within a supportive group field. Each session unfolds naturally and may offer a sense of restoration\, clarity\, or quiet reconnection. \nOpen to both new and returning participants. \nSessions are included with the monthly healing circle membership and are recorded for replay access. \nJoin the Healing Circle
URL:https://jillseabourne.com/event/group-trance-medium-healing-2/2030-03-28/
END:VEVENT
BEGIN:VEVENT
DTSTART;TZID=America/Chicago:20300409T170000
DTEND;TZID=America/Chicago:20300409T173000
DTSTAMP:20260422T172933
CREATED:20241119T031532Z
LAST-MODIFIED:20260205T222609Z
UID:10000254-1901984400-1901986200@jillseabourne.com
SUMMARY:Group Trance Medium Healing Circle
DESCRIPTION:You’re warmly invited into a shared space of trance medium healing and spiritual support\, held twice each month via Zoom. \nThese gatherings offer a calm and receptive environment to pause\, settle in\, and receive within a supportive group field. Each session unfolds naturally and may offer a sense of restoration\, clarity\, or quiet reconnection. \nOpen to both new and returning participants. \nSessions are included with the monthly healing circle membership and are recorded for replay access. \nJoin the Healing Circle \n 
URL:https://jillseabourne.com/event/group-trance-medium-healing/2030-04-09/
END:VEVENT
BEGIN:VEVENT
DTSTART;TZID=America/Chicago:20300425T110000
DTEND;TZID=America/Chicago:20300425T113000
DTSTAMP:20260422T172933
CREATED:20241119T032753Z
LAST-MODIFIED:20260205T222352Z
UID:10000243-1903345200-1903347000@jillseabourne.com
SUMMARY:Group Trance Medium Healing Circle
DESCRIPTION:You’re warmly invited into a shared space of trance medium healing and spiritual support\, held twice each month via Zoom. \nThese gatherings offer a calm and receptive environment to pause\, settle in\, and receive within a supportive group field. Each session unfolds naturally and may offer a sense of restoration\, clarity\, or quiet reconnection. \nOpen to both new and returning participants. \nSessions are included with the monthly healing circle membership and are recorded for replay access. \nJoin the Healing Circle
URL:https://jillseabourne.com/event/group-trance-medium-healing-2/2030-04-25/
END:VEVENT
BEGIN:VEVENT
DTSTART;TZID=America/Chicago:20300514T170000
DTEND;TZID=America/Chicago:20300514T173000
DTSTAMP:20260422T172933
CREATED:20241119T031532Z
LAST-MODIFIED:20260205T222609Z
UID:10000255-1905008400-1905010200@jillseabourne.com
SUMMARY:Group Trance Medium Healing Circle
DESCRIPTION:You’re warmly invited into a shared space of trance medium healing and spiritual support\, held twice each month via Zoom. \nThese gatherings offer a calm and receptive environment to pause\, settle in\, and receive within a supportive group field. Each session unfolds naturally and may offer a sense of restoration\, clarity\, or quiet reconnection. \nOpen to both new and returning participants. \nSessions are included with the monthly healing circle membership and are recorded for replay access. \nJoin the Healing Circle \n 
URL:https://jillseabourne.com/event/group-trance-medium-healing/2030-05-14/
END:VEVENT
BEGIN:VEVENT
DTSTART;TZID=America/Chicago:20300523T110000
DTEND;TZID=America/Chicago:20300523T113000
DTSTAMP:20260422T172933
CREATED:20241119T032753Z
LAST-MODIFIED:20260205T222352Z
UID:10000244-1905764400-1905766200@jillseabourne.com
SUMMARY:Group Trance Medium Healing Circle
DESCRIPTION:You’re warmly invited into a shared space of trance medium healing and spiritual support\, held twice each month via Zoom. \nThese gatherings offer a calm and receptive environment to pause\, settle in\, and receive within a supportive group field. Each session unfolds naturally and may offer a sense of restoration\, clarity\, or quiet reconnection. \nOpen to both new and returning participants. \nSessions are included with the monthly healing circle membership and are recorded for replay access. \nJoin the Healing Circle
URL:https://jillseabourne.com/event/group-trance-medium-healing-2/2030-05-23/
END:VEVENT
BEGIN:VEVENT
DTSTART;TZID=America/Chicago:20300611T170000
DTEND;TZID=America/Chicago:20300611T173000
DTSTAMP:20260422T172933
CREATED:20241119T031532Z
LAST-MODIFIED:20260205T222609Z
UID:10000256-1907427600-1907429400@jillseabourne.com
SUMMARY:Group Trance Medium Healing Circle
DESCRIPTION:You’re warmly invited into a shared space of trance medium healing and spiritual support\, held twice each month via Zoom. \nThese gatherings offer a calm and receptive environment to pause\, settle in\, and receive within a supportive group field. Each session unfolds naturally and may offer a sense of restoration\, clarity\, or quiet reconnection. \nOpen to both new and returning participants. \nSessions are included with the monthly healing circle membership and are recorded for replay access. \nJoin the Healing Circle \n 
URL:https://jillseabourne.com/event/group-trance-medium-healing/2030-06-11/
END:VEVENT
BEGIN:VEVENT
DTSTART;TZID=America/Chicago:20300627T110000
DTEND;TZID=America/Chicago:20300627T113000
DTSTAMP:20260422T172933
CREATED:20241119T032753Z
LAST-MODIFIED:20260205T222352Z
UID:10000245-1908788400-1908790200@jillseabourne.com
SUMMARY:Group Trance Medium Healing Circle
DESCRIPTION:You’re warmly invited into a shared space of trance medium healing and spiritual support\, held twice each month via Zoom. \nThese gatherings offer a calm and receptive environment to pause\, settle in\, and receive within a supportive group field. Each session unfolds naturally and may offer a sense of restoration\, clarity\, or quiet reconnection. \nOpen to both new and returning participants. \nSessions are included with the monthly healing circle membership and are recorded for replay access. \nJoin the Healing Circle
URL:https://jillseabourne.com/event/group-trance-medium-healing-2/2030-06-27/
END:VEVENT
BEGIN:VEVENT
DTSTART;TZID=America/Chicago:20300709T170000
DTEND;TZID=America/Chicago:20300709T173000
DTSTAMP:20260422T172933
CREATED:20241119T031532Z
LAST-MODIFIED:20260205T222609Z
UID:10000257-1909846800-1909848600@jillseabourne.com
SUMMARY:Group Trance Medium Healing Circle
DESCRIPTION:You’re warmly invited into a shared space of trance medium healing and spiritual support\, held twice each month via Zoom. \nThese gatherings offer a calm and receptive environment to pause\, settle in\, and receive within a supportive group field. Each session unfolds naturally and may offer a sense of restoration\, clarity\, or quiet reconnection. \nOpen to both new and returning participants. \nSessions are included with the monthly healing circle membership and are recorded for replay access. \nJoin the Healing Circle \n 
URL:https://jillseabourne.com/event/group-trance-medium-healing/2030-07-09/
END:VEVENT
BEGIN:VEVENT
DTSTART;TZID=America/Chicago:20300725T110000
DTEND;TZID=America/Chicago:20300725T113000
DTSTAMP:20260422T172933
CREATED:20241119T032753Z
LAST-MODIFIED:20260205T222352Z
UID:10000246-1911207600-1911209400@jillseabourne.com
SUMMARY:Group Trance Medium Healing Circle
DESCRIPTION:You’re warmly invited into a shared space of trance medium healing and spiritual support\, held twice each month via Zoom. \nThese gatherings offer a calm and receptive environment to pause\, settle in\, and receive within a supportive group field. Each session unfolds naturally and may offer a sense of restoration\, clarity\, or quiet reconnection. \nOpen to both new and returning participants. \nSessions are included with the monthly healing circle membership and are recorded for replay access. \nJoin the Healing Circle
URL:https://jillseabourne.com/event/group-trance-medium-healing-2/2030-07-25/
END:VEVENT
BEGIN:VEVENT
DTSTART;TZID=America/Chicago:20300813T170000
DTEND;TZID=America/Chicago:20300813T173000
DTSTAMP:20260422T172933
CREATED:20241119T031532Z
LAST-MODIFIED:20260205T222609Z
UID:10000258-1912870800-1912872600@jillseabourne.com
SUMMARY:Group Trance Medium Healing Circle
DESCRIPTION:You’re warmly invited into a shared space of trance medium healing and spiritual support\, held twice each month via Zoom. \nThese gatherings offer a calm and receptive environment to pause\, settle in\, and receive within a supportive group field. Each session unfolds naturally and may offer a sense of restoration\, clarity\, or quiet reconnection. \nOpen to both new and returning participants. \nSessions are included with the monthly healing circle membership and are recorded for replay access. \nJoin the Healing Circle \n 
URL:https://jillseabourne.com/event/group-trance-medium-healing/2030-08-13/
END:VEVENT
BEGIN:VEVENT
DTSTART;TZID=America/Chicago:20300822T110000
DTEND;TZID=America/Chicago:20300822T113000
DTSTAMP:20260422T172933
CREATED:20241119T032753Z
LAST-MODIFIED:20260205T222352Z
UID:10000247-1913626800-1913628600@jillseabourne.com
SUMMARY:Group Trance Medium Healing Circle
DESCRIPTION:You’re warmly invited into a shared space of trance medium healing and spiritual support\, held twice each month via Zoom. \nThese gatherings offer a calm and receptive environment to pause\, settle in\, and receive within a supportive group field. Each session unfolds naturally and may offer a sense of restoration\, clarity\, or quiet reconnection. \nOpen to both new and returning participants. \nSessions are included with the monthly healing circle membership and are recorded for replay access. \nJoin the Healing Circle
URL:https://jillseabourne.com/event/group-trance-medium-healing-2/2030-08-22/
END:VEVENT
BEGIN:VEVENT
DTSTART;TZID=America/Chicago:20300910T170000
DTEND;TZID=America/Chicago:20300910T173000
DTSTAMP:20260422T172933
CREATED:20241119T031532Z
LAST-MODIFIED:20260205T222609Z
UID:10000259-1915290000-1915291800@jillseabourne.com
SUMMARY:Group Trance Medium Healing Circle
DESCRIPTION:You’re warmly invited into a shared space of trance medium healing and spiritual support\, held twice each month via Zoom. \nThese gatherings offer a calm and receptive environment to pause\, settle in\, and receive within a supportive group field. Each session unfolds naturally and may offer a sense of restoration\, clarity\, or quiet reconnection. \nOpen to both new and returning participants. \nSessions are included with the monthly healing circle membership and are recorded for replay access. \nJoin the Healing Circle \n 
URL:https://jillseabourne.com/event/group-trance-medium-healing/2030-09-10/
END:VEVENT
BEGIN:VEVENT
DTSTART;TZID=America/Chicago:20300926T110000
DTEND;TZID=America/Chicago:20300926T113000
DTSTAMP:20260422T172933
CREATED:20241119T032753Z
LAST-MODIFIED:20260205T222352Z
UID:10000248-1916650800-1916652600@jillseabourne.com
SUMMARY:Group Trance Medium Healing Circle
DESCRIPTION:You’re warmly invited into a shared space of trance medium healing and spiritual support\, held twice each month via Zoom. \nThese gatherings offer a calm and receptive environment to pause\, settle in\, and receive within a supportive group field. Each session unfolds naturally and may offer a sense of restoration\, clarity\, or quiet reconnection. \nOpen to both new and returning participants. \nSessions are included with the monthly healing circle membership and are recorded for replay access. \nJoin the Healing Circle
URL:https://jillseabourne.com/event/group-trance-medium-healing-2/2030-09-26/
END:VEVENT
BEGIN:VEVENT
DTSTART;TZID=America/Chicago:20301008T170000
DTEND;TZID=America/Chicago:20301008T173000
DTSTAMP:20260422T172933
CREATED:20241119T031532Z
LAST-MODIFIED:20260205T222609Z
UID:10000260-1917709200-1917711000@jillseabourne.com
SUMMARY:Group Trance Medium Healing Circle
DESCRIPTION:You’re warmly invited into a shared space of trance medium healing and spiritual support\, held twice each month via Zoom. \nThese gatherings offer a calm and receptive environment to pause\, settle in\, and receive within a supportive group field. Each session unfolds naturally and may offer a sense of restoration\, clarity\, or quiet reconnection. \nOpen to both new and returning participants. \nSessions are included with the monthly healing circle membership and are recorded for replay access. \nJoin the Healing Circle \n 
URL:https://jillseabourne.com/event/group-trance-medium-healing/2030-10-08/
END:VEVENT
BEGIN:VEVENT
DTSTART;TZID=America/Chicago:20301024T110000
DTEND;TZID=America/Chicago:20301024T113000
DTSTAMP:20260422T172933
CREATED:20241119T032753Z
LAST-MODIFIED:20260205T222352Z
UID:10000249-1919070000-1919071800@jillseabourne.com
SUMMARY:Group Trance Medium Healing Circle
DESCRIPTION:You’re warmly invited into a shared space of trance medium healing and spiritual support\, held twice each month via Zoom. \nThese gatherings offer a calm and receptive environment to pause\, settle in\, and receive within a supportive group field. Each session unfolds naturally and may offer a sense of restoration\, clarity\, or quiet reconnection. \nOpen to both new and returning participants. \nSessions are included with the monthly healing circle membership and are recorded for replay access. \nJoin the Healing Circle
URL:https://jillseabourne.com/event/group-trance-medium-healing-2/2030-10-24/
END:VEVENT
BEGIN:VEVENT
DTSTART;TZID=America/Chicago:20301112T170000
DTEND;TZID=America/Chicago:20301112T173000
DTSTAMP:20260422T172933
CREATED:20241119T031532Z
LAST-MODIFIED:20260205T222609Z
UID:10000261-1920733200-1920735000@jillseabourne.com
SUMMARY:Group Trance Medium Healing Circle
DESCRIPTION:You’re warmly invited into a shared space of trance medium healing and spiritual support\, held twice each month via Zoom. \nThese gatherings offer a calm and receptive environment to pause\, settle in\, and receive within a supportive group field. Each session unfolds naturally and may offer a sense of restoration\, clarity\, or quiet reconnection. \nOpen to both new and returning participants. \nSessions are included with the monthly healing circle membership and are recorded for replay access. \nJoin the Healing Circle \n 
URL:https://jillseabourne.com/event/group-trance-medium-healing/2030-11-12/
END:VEVENT
BEGIN:VEVENT
DTSTART;TZID=America/Chicago:20301128T110000
DTEND;TZID=America/Chicago:20301128T113000
DTSTAMP:20260422T172933
CREATED:20241119T032753Z
LAST-MODIFIED:20260205T222352Z
UID:10000250-1922094000-1922095800@jillseabourne.com
SUMMARY:Group Trance Medium Healing Circle
DESCRIPTION:You’re warmly invited into a shared space of trance medium healing and spiritual support\, held twice each month via Zoom. \nThese gatherings offer a calm and receptive environment to pause\, settle in\, and receive within a supportive group field. Each session unfolds naturally and may offer a sense of restoration\, clarity\, or quiet reconnection. \nOpen to both new and returning participants. \nSessions are included with the monthly healing circle membership and are recorded for replay access. \nJoin the Healing Circle
URL:https://jillseabourne.com/event/group-trance-medium-healing-2/2030-11-28/
END:VEVENT
BEGIN:VEVENT
DTSTART;TZID=America/Chicago:20301210T170000
DTEND;TZID=America/Chicago:20301210T173000
DTSTAMP:20260422T172933
CREATED:20241119T031532Z
LAST-MODIFIED:20260205T222609Z
UID:10000262-1923152400-1923154200@jillseabourne.com
SUMMARY:Group Trance Medium Healing Circle
DESCRIPTION:You’re warmly invited into a shared space of trance medium healing and spiritual support\, held twice each month via Zoom. \nThese gatherings offer a calm and receptive environment to pause\, settle in\, and receive within a supportive group field. Each session unfolds naturally and may offer a sense of restoration\, clarity\, or quiet reconnection. \nOpen to both new and returning participants. \nSessions are included with the monthly healing circle membership and are recorded for replay access. \nJoin the Healing Circle \n 
URL:https://jillseabourne.com/event/group-trance-medium-healing/2030-12-10/
END:VEVENT
BEGIN:VEVENT
DTSTART;TZID=America/Chicago:20301226T110000
DTEND;TZID=America/Chicago:20301226T113000
DTSTAMP:20260422T172933
CREATED:20241119T032753Z
LAST-MODIFIED:20260205T222352Z
UID:10000251-1924513200-1924515000@jillseabourne.com
SUMMARY:Group Trance Medium Healing Circle
DESCRIPTION:You’re warmly invited into a shared space of trance medium healing and spiritual support\, held twice each month via Zoom. \nThese gatherings offer a calm and receptive environment to pause\, settle in\, and receive within a supportive group field. Each session unfolds naturally and may offer a sense of restoration\, clarity\, or quiet reconnection. \nOpen to both new and returning participants. \nSessions are included with the monthly healing circle membership and are recorded for replay access. \nJoin the Healing Circle
URL:https://jillseabourne.com/event/group-trance-medium-healing-2/2030-12-26/
END:VEVENT
BEGIN:VEVENT
DTSTART;TZID=America/Chicago:20310114T170000
DTEND;TZID=America/Chicago:20310114T173000
DTSTAMP:20260422T172933
CREATED:20241119T031532Z
LAST-MODIFIED:20260205T222609Z
UID:10000263-1926176400-1926178200@jillseabourne.com
SUMMARY:Group Trance Medium Healing Circle
DESCRIPTION:You’re warmly invited into a shared space of trance medium healing and spiritual support\, held twice each month via Zoom. \nThese gatherings offer a calm and receptive environment to pause\, settle in\, and receive within a supportive group field. Each session unfolds naturally and may offer a sense of restoration\, clarity\, or quiet reconnection. \nOpen to both new and returning participants. \nSessions are included with the monthly healing circle membership and are recorded for replay access. \nJoin the Healing Circle \n 
URL:https://jillseabourne.com/event/group-trance-medium-healing/2031-01-14/
END:VEVENT
BEGIN:VEVENT
DTSTART;TZID=America/Chicago:20310123T110000
DTEND;TZID=America/Chicago:20310123T113000
DTSTAMP:20260422T172933
CREATED:20241119T032753Z
LAST-MODIFIED:20260205T222352Z
UID:10000264-1926932400-1926934200@jillseabourne.com
SUMMARY:Group Trance Medium Healing Circle
DESCRIPTION:You’re warmly invited into a shared space of trance medium healing and spiritual support\, held twice each month via Zoom. \nThese gatherings offer a calm and receptive environment to pause\, settle in\, and receive within a supportive group field. Each session unfolds naturally and may offer a sense of restoration\, clarity\, or quiet reconnection. \nOpen to both new and returning participants. \nSessions are included with the monthly healing circle membership and are recorded for replay access. \nJoin the Healing Circle
URL:https://jillseabourne.com/event/group-trance-medium-healing-2/2031-01-23/
END:VEVENT
END:VCALENDAR