BEGIN:VCALENDAR
VERSION:2.0
PRODID:-//Jill Seabourne - ECPv6.15.20//NONSGML v1.0//EN
CALSCALE:GREGORIAN
METHOD:PUBLISH
X-ORIGINAL-URL:https://jillseabourne.com
X-WR-CALDESC:Events for Jill Seabourne
REFRESH-INTERVAL;VALUE=DURATION:PT1H
X-Robots-Tag:noindex
X-PUBLISHED-TTL:PT1H
BEGIN:VTIMEZONE
TZID:America/Chicago
BEGIN:DAYLIGHT
TZOFFSETFROM:-0600
TZOFFSETTO:-0500
TZNAME:CDT
DTSTART:20270314T080000
END:DAYLIGHT
BEGIN:STANDARD
TZOFFSETFROM:-0500
TZOFFSETTO:-0600
TZNAME:CST
DTSTART:20271107T070000
END:STANDARD
BEGIN:DAYLIGHT
TZOFFSETFROM:-0600
TZOFFSETTO:-0500
TZNAME:CDT
DTSTART:20280312T080000
END:DAYLIGHT
BEGIN:STANDARD
TZOFFSETFROM:-0500
TZOFFSETTO:-0600
TZNAME:CST
DTSTART:20281105T070000
END:STANDARD
BEGIN:DAYLIGHT
TZOFFSETFROM:-0600
TZOFFSETTO:-0500
TZNAME:CDT
DTSTART:20290311T080000
END:DAYLIGHT
BEGIN:STANDARD
TZOFFSETFROM:-0500
TZOFFSETTO:-0600
TZNAME:CST
DTSTART:20291104T070000
END:STANDARD
BEGIN:DAYLIGHT
TZOFFSETFROM:-0600
TZOFFSETTO:-0500
TZNAME:CDT
DTSTART:20300310T080000
END:DAYLIGHT
BEGIN:STANDARD
TZOFFSETFROM:-0500
TZOFFSETTO:-0600
TZNAME:CST
DTSTART:20301103T070000
END:STANDARD
END:VTIMEZONE
BEGIN:VEVENT
DTSTART;TZID=America/Chicago:20280525T110000
DTEND;TZID=America/Chicago:20280525T113000
DTSTAMP:20260420T223824
CREATED:20241119T032753Z
LAST-MODIFIED:20260205T222352Z
UID:10000197-1842865200-1842867000@jillseabourne.com
SUMMARY:Group Trance Medium Healing Circle
DESCRIPTION:You’re warmly invited into a shared space of trance medium healing and spiritual support\, held twice each month via Zoom. \nThese gatherings offer a calm and receptive environment to pause\, settle in\, and receive within a supportive group field. Each session unfolds naturally and may offer a sense of restoration\, clarity\, or quiet reconnection. \nOpen to both new and returning participants. \nSessions are included with the monthly healing circle membership and are recorded for replay access. \nJoin the Healing Circle
URL:https://jillseabourne.com/event/group-trance-medium-healing-2/2028-05-25/
END:VEVENT
BEGIN:VEVENT
DTSTART;TZID=America/Chicago:20280613T170000
DTEND;TZID=America/Chicago:20280613T173000
DTSTAMP:20260420T223824
CREATED:20241119T031532Z
LAST-MODIFIED:20260205T222609Z
UID:10000137-1844528400-1844530200@jillseabourne.com
SUMMARY:Group Trance Medium Healing Circle
DESCRIPTION:You’re warmly invited into a shared space of trance medium healing and spiritual support\, held twice each month via Zoom. \nThese gatherings offer a calm and receptive environment to pause\, settle in\, and receive within a supportive group field. Each session unfolds naturally and may offer a sense of restoration\, clarity\, or quiet reconnection. \nOpen to both new and returning participants. \nSessions are included with the monthly healing circle membership and are recorded for replay access. \nJoin the Healing Circle \n 
URL:https://jillseabourne.com/event/group-trance-medium-healing/2028-06-13/
END:VEVENT
BEGIN:VEVENT
DTSTART;TZID=America/Chicago:20280622T110000
DTEND;TZID=America/Chicago:20280622T113000
DTSTAMP:20260420T223824
CREATED:20241119T032753Z
LAST-MODIFIED:20260205T222352Z
UID:10000198-1845284400-1845286200@jillseabourne.com
SUMMARY:Group Trance Medium Healing Circle
DESCRIPTION:You’re warmly invited into a shared space of trance medium healing and spiritual support\, held twice each month via Zoom. \nThese gatherings offer a calm and receptive environment to pause\, settle in\, and receive within a supportive group field. Each session unfolds naturally and may offer a sense of restoration\, clarity\, or quiet reconnection. \nOpen to both new and returning participants. \nSessions are included with the monthly healing circle membership and are recorded for replay access. \nJoin the Healing Circle
URL:https://jillseabourne.com/event/group-trance-medium-healing-2/2028-06-22/
END:VEVENT
BEGIN:VEVENT
DTSTART;TZID=America/Chicago:20280711T170000
DTEND;TZID=America/Chicago:20280711T173000
DTSTAMP:20260420T223824
CREATED:20241119T031532Z
LAST-MODIFIED:20260205T222609Z
UID:10000138-1846947600-1846949400@jillseabourne.com
SUMMARY:Group Trance Medium Healing Circle
DESCRIPTION:You’re warmly invited into a shared space of trance medium healing and spiritual support\, held twice each month via Zoom. \nThese gatherings offer a calm and receptive environment to pause\, settle in\, and receive within a supportive group field. Each session unfolds naturally and may offer a sense of restoration\, clarity\, or quiet reconnection. \nOpen to both new and returning participants. \nSessions are included with the monthly healing circle membership and are recorded for replay access. \nJoin the Healing Circle \n 
URL:https://jillseabourne.com/event/group-trance-medium-healing/2028-07-11/
END:VEVENT
BEGIN:VEVENT
DTSTART;TZID=America/Chicago:20280727T110000
DTEND;TZID=America/Chicago:20280727T113000
DTSTAMP:20260420T223824
CREATED:20241119T032753Z
LAST-MODIFIED:20260205T222352Z
UID:10000199-1848308400-1848310200@jillseabourne.com
SUMMARY:Group Trance Medium Healing Circle
DESCRIPTION:You’re warmly invited into a shared space of trance medium healing and spiritual support\, held twice each month via Zoom. \nThese gatherings offer a calm and receptive environment to pause\, settle in\, and receive within a supportive group field. Each session unfolds naturally and may offer a sense of restoration\, clarity\, or quiet reconnection. \nOpen to both new and returning participants. \nSessions are included with the monthly healing circle membership and are recorded for replay access. \nJoin the Healing Circle
URL:https://jillseabourne.com/event/group-trance-medium-healing-2/2028-07-27/
END:VEVENT
BEGIN:VEVENT
DTSTART;TZID=America/Chicago:20280808T170000
DTEND;TZID=America/Chicago:20280808T173000
DTSTAMP:20260420T223824
CREATED:20241119T031532Z
LAST-MODIFIED:20260205T222609Z
UID:10000139-1849366800-1849368600@jillseabourne.com
SUMMARY:Group Trance Medium Healing Circle
DESCRIPTION:You’re warmly invited into a shared space of trance medium healing and spiritual support\, held twice each month via Zoom. \nThese gatherings offer a calm and receptive environment to pause\, settle in\, and receive within a supportive group field. Each session unfolds naturally and may offer a sense of restoration\, clarity\, or quiet reconnection. \nOpen to both new and returning participants. \nSessions are included with the monthly healing circle membership and are recorded for replay access. \nJoin the Healing Circle \n 
URL:https://jillseabourne.com/event/group-trance-medium-healing/2028-08-08/
END:VEVENT
BEGIN:VEVENT
DTSTART;TZID=America/Chicago:20280824T110000
DTEND;TZID=America/Chicago:20280824T113000
DTSTAMP:20260420T223824
CREATED:20241119T032753Z
LAST-MODIFIED:20260205T222352Z
UID:10000200-1850727600-1850729400@jillseabourne.com
SUMMARY:Group Trance Medium Healing Circle
DESCRIPTION:You’re warmly invited into a shared space of trance medium healing and spiritual support\, held twice each month via Zoom. \nThese gatherings offer a calm and receptive environment to pause\, settle in\, and receive within a supportive group field. Each session unfolds naturally and may offer a sense of restoration\, clarity\, or quiet reconnection. \nOpen to both new and returning participants. \nSessions are included with the monthly healing circle membership and are recorded for replay access. \nJoin the Healing Circle
URL:https://jillseabourne.com/event/group-trance-medium-healing-2/2028-08-24/
END:VEVENT
BEGIN:VEVENT
DTSTART;TZID=America/Chicago:20280912T170000
DTEND;TZID=America/Chicago:20280912T173000
DTSTAMP:20260420T223824
CREATED:20241119T031532Z
LAST-MODIFIED:20260205T222609Z
UID:10000140-1852390800-1852392600@jillseabourne.com
SUMMARY:Group Trance Medium Healing Circle
DESCRIPTION:You’re warmly invited into a shared space of trance medium healing and spiritual support\, held twice each month via Zoom. \nThese gatherings offer a calm and receptive environment to pause\, settle in\, and receive within a supportive group field. Each session unfolds naturally and may offer a sense of restoration\, clarity\, or quiet reconnection. \nOpen to both new and returning participants. \nSessions are included with the monthly healing circle membership and are recorded for replay access. \nJoin the Healing Circle \n 
URL:https://jillseabourne.com/event/group-trance-medium-healing/2028-09-12/
END:VEVENT
BEGIN:VEVENT
DTSTART;TZID=America/Chicago:20280928T110000
DTEND;TZID=America/Chicago:20280928T113000
DTSTAMP:20260420T223824
CREATED:20241119T032753Z
LAST-MODIFIED:20260205T222352Z
UID:10000201-1853751600-1853753400@jillseabourne.com
SUMMARY:Group Trance Medium Healing Circle
DESCRIPTION:You’re warmly invited into a shared space of trance medium healing and spiritual support\, held twice each month via Zoom. \nThese gatherings offer a calm and receptive environment to pause\, settle in\, and receive within a supportive group field. Each session unfolds naturally and may offer a sense of restoration\, clarity\, or quiet reconnection. \nOpen to both new and returning participants. \nSessions are included with the monthly healing circle membership and are recorded for replay access. \nJoin the Healing Circle
URL:https://jillseabourne.com/event/group-trance-medium-healing-2/2028-09-28/
END:VEVENT
BEGIN:VEVENT
DTSTART;TZID=America/Chicago:20281010T170000
DTEND;TZID=America/Chicago:20281010T173000
DTSTAMP:20260420T223824
CREATED:20241119T031532Z
LAST-MODIFIED:20260205T222609Z
UID:10000141-1854810000-1854811800@jillseabourne.com
SUMMARY:Group Trance Medium Healing Circle
DESCRIPTION:You’re warmly invited into a shared space of trance medium healing and spiritual support\, held twice each month via Zoom. \nThese gatherings offer a calm and receptive environment to pause\, settle in\, and receive within a supportive group field. Each session unfolds naturally and may offer a sense of restoration\, clarity\, or quiet reconnection. \nOpen to both new and returning participants. \nSessions are included with the monthly healing circle membership and are recorded for replay access. \nJoin the Healing Circle \n 
URL:https://jillseabourne.com/event/group-trance-medium-healing/2028-10-10/
END:VEVENT
BEGIN:VEVENT
DTSTART;TZID=America/Chicago:20281026T110000
DTEND;TZID=America/Chicago:20281026T113000
DTSTAMP:20260420T223824
CREATED:20241119T032753Z
LAST-MODIFIED:20260205T222352Z
UID:10000202-1856170800-1856172600@jillseabourne.com
SUMMARY:Group Trance Medium Healing Circle
DESCRIPTION:You’re warmly invited into a shared space of trance medium healing and spiritual support\, held twice each month via Zoom. \nThese gatherings offer a calm and receptive environment to pause\, settle in\, and receive within a supportive group field. Each session unfolds naturally and may offer a sense of restoration\, clarity\, or quiet reconnection. \nOpen to both new and returning participants. \nSessions are included with the monthly healing circle membership and are recorded for replay access. \nJoin the Healing Circle
URL:https://jillseabourne.com/event/group-trance-medium-healing-2/2028-10-26/
END:VEVENT
BEGIN:VEVENT
DTSTART;TZID=America/Chicago:20281114T170000
DTEND;TZID=America/Chicago:20281114T173000
DTSTAMP:20260420T223824
CREATED:20241119T031532Z
LAST-MODIFIED:20260205T222609Z
UID:10000142-1857834000-1857835800@jillseabourne.com
SUMMARY:Group Trance Medium Healing Circle
DESCRIPTION:You’re warmly invited into a shared space of trance medium healing and spiritual support\, held twice each month via Zoom. \nThese gatherings offer a calm and receptive environment to pause\, settle in\, and receive within a supportive group field. Each session unfolds naturally and may offer a sense of restoration\, clarity\, or quiet reconnection. \nOpen to both new and returning participants. \nSessions are included with the monthly healing circle membership and are recorded for replay access. \nJoin the Healing Circle \n 
URL:https://jillseabourne.com/event/group-trance-medium-healing/2028-11-14/
END:VEVENT
BEGIN:VEVENT
DTSTART;TZID=America/Chicago:20281123T110000
DTEND;TZID=America/Chicago:20281123T113000
DTSTAMP:20260420T223824
CREATED:20241119T032753Z
LAST-MODIFIED:20260205T222352Z
UID:10000203-1858590000-1858591800@jillseabourne.com
SUMMARY:Group Trance Medium Healing Circle
DESCRIPTION:You’re warmly invited into a shared space of trance medium healing and spiritual support\, held twice each month via Zoom. \nThese gatherings offer a calm and receptive environment to pause\, settle in\, and receive within a supportive group field. Each session unfolds naturally and may offer a sense of restoration\, clarity\, or quiet reconnection. \nOpen to both new and returning participants. \nSessions are included with the monthly healing circle membership and are recorded for replay access. \nJoin the Healing Circle
URL:https://jillseabourne.com/event/group-trance-medium-healing-2/2028-11-23/
END:VEVENT
BEGIN:VEVENT
DTSTART;TZID=America/Chicago:20281212T170000
DTEND;TZID=America/Chicago:20281212T173000
DTSTAMP:20260420T223824
CREATED:20241119T031532Z
LAST-MODIFIED:20260205T222609Z
UID:10000143-1860253200-1860255000@jillseabourne.com
SUMMARY:Group Trance Medium Healing Circle
DESCRIPTION:You’re warmly invited into a shared space of trance medium healing and spiritual support\, held twice each month via Zoom. \nThese gatherings offer a calm and receptive environment to pause\, settle in\, and receive within a supportive group field. Each session unfolds naturally and may offer a sense of restoration\, clarity\, or quiet reconnection. \nOpen to both new and returning participants. \nSessions are included with the monthly healing circle membership and are recorded for replay access. \nJoin the Healing Circle \n 
URL:https://jillseabourne.com/event/group-trance-medium-healing/2028-12-12/
END:VEVENT
BEGIN:VEVENT
DTSTART;TZID=America/Chicago:20281228T110000
DTEND;TZID=America/Chicago:20281228T113000
DTSTAMP:20260420T223824
CREATED:20241119T032753Z
LAST-MODIFIED:20260205T222352Z
UID:10000204-1861614000-1861615800@jillseabourne.com
SUMMARY:Group Trance Medium Healing Circle
DESCRIPTION:You’re warmly invited into a shared space of trance medium healing and spiritual support\, held twice each month via Zoom. \nThese gatherings offer a calm and receptive environment to pause\, settle in\, and receive within a supportive group field. Each session unfolds naturally and may offer a sense of restoration\, clarity\, or quiet reconnection. \nOpen to both new and returning participants. \nSessions are included with the monthly healing circle membership and are recorded for replay access. \nJoin the Healing Circle
URL:https://jillseabourne.com/event/group-trance-medium-healing-2/2028-12-28/
END:VEVENT
BEGIN:VEVENT
DTSTART;TZID=America/Chicago:20290109T170000
DTEND;TZID=America/Chicago:20290109T173000
DTSTAMP:20260420T223824
CREATED:20241119T031532Z
LAST-MODIFIED:20260205T222609Z
UID:10000144-1862672400-1862674200@jillseabourne.com
SUMMARY:Group Trance Medium Healing Circle
DESCRIPTION:You’re warmly invited into a shared space of trance medium healing and spiritual support\, held twice each month via Zoom. \nThese gatherings offer a calm and receptive environment to pause\, settle in\, and receive within a supportive group field. Each session unfolds naturally and may offer a sense of restoration\, clarity\, or quiet reconnection. \nOpen to both new and returning participants. \nSessions are included with the monthly healing circle membership and are recorded for replay access. \nJoin the Healing Circle \n 
URL:https://jillseabourne.com/event/group-trance-medium-healing/2029-01-09/
END:VEVENT
BEGIN:VEVENT
DTSTART;TZID=America/Chicago:20290125T110000
DTEND;TZID=America/Chicago:20290125T113000
DTSTAMP:20260420T223824
CREATED:20241119T032753Z
LAST-MODIFIED:20260205T222352Z
UID:10000205-1864033200-1864035000@jillseabourne.com
SUMMARY:Group Trance Medium Healing Circle
DESCRIPTION:You’re warmly invited into a shared space of trance medium healing and spiritual support\, held twice each month via Zoom. \nThese gatherings offer a calm and receptive environment to pause\, settle in\, and receive within a supportive group field. Each session unfolds naturally and may offer a sense of restoration\, clarity\, or quiet reconnection. \nOpen to both new and returning participants. \nSessions are included with the monthly healing circle membership and are recorded for replay access. \nJoin the Healing Circle
URL:https://jillseabourne.com/event/group-trance-medium-healing-2/2029-01-25/
END:VEVENT
BEGIN:VEVENT
DTSTART;TZID=America/Chicago:20290213T170000
DTEND;TZID=America/Chicago:20290213T173000
DTSTAMP:20260420T223824
CREATED:20241119T031532Z
LAST-MODIFIED:20260205T222609Z
UID:10000145-1865696400-1865698200@jillseabourne.com
SUMMARY:Group Trance Medium Healing Circle
DESCRIPTION:You’re warmly invited into a shared space of trance medium healing and spiritual support\, held twice each month via Zoom. \nThese gatherings offer a calm and receptive environment to pause\, settle in\, and receive within a supportive group field. Each session unfolds naturally and may offer a sense of restoration\, clarity\, or quiet reconnection. \nOpen to both new and returning participants. \nSessions are included with the monthly healing circle membership and are recorded for replay access. \nJoin the Healing Circle \n 
URL:https://jillseabourne.com/event/group-trance-medium-healing/2029-02-13/
END:VEVENT
BEGIN:VEVENT
DTSTART;TZID=America/Chicago:20290222T110000
DTEND;TZID=America/Chicago:20290222T113000
DTSTAMP:20260420T223824
CREATED:20241119T032753Z
LAST-MODIFIED:20260205T222352Z
UID:10000206-1866452400-1866454200@jillseabourne.com
SUMMARY:Group Trance Medium Healing Circle
DESCRIPTION:You’re warmly invited into a shared space of trance medium healing and spiritual support\, held twice each month via Zoom. \nThese gatherings offer a calm and receptive environment to pause\, settle in\, and receive within a supportive group field. Each session unfolds naturally and may offer a sense of restoration\, clarity\, or quiet reconnection. \nOpen to both new and returning participants. \nSessions are included with the monthly healing circle membership and are recorded for replay access. \nJoin the Healing Circle
URL:https://jillseabourne.com/event/group-trance-medium-healing-2/2029-02-22/
END:VEVENT
BEGIN:VEVENT
DTSTART;TZID=America/Chicago:20290313T170000
DTEND;TZID=America/Chicago:20290313T173000
DTSTAMP:20260420T223824
CREATED:20241119T031532Z
LAST-MODIFIED:20260205T222609Z
UID:10000146-1868115600-1868117400@jillseabourne.com
SUMMARY:Group Trance Medium Healing Circle
DESCRIPTION:You’re warmly invited into a shared space of trance medium healing and spiritual support\, held twice each month via Zoom. \nThese gatherings offer a calm and receptive environment to pause\, settle in\, and receive within a supportive group field. Each session unfolds naturally and may offer a sense of restoration\, clarity\, or quiet reconnection. \nOpen to both new and returning participants. \nSessions are included with the monthly healing circle membership and are recorded for replay access. \nJoin the Healing Circle \n 
URL:https://jillseabourne.com/event/group-trance-medium-healing/2029-03-13/
END:VEVENT
BEGIN:VEVENT
DTSTART;TZID=America/Chicago:20290322T110000
DTEND;TZID=America/Chicago:20290322T113000
DTSTAMP:20260420T223824
CREATED:20241119T032753Z
LAST-MODIFIED:20260205T222352Z
UID:10000207-1868871600-1868873400@jillseabourne.com
SUMMARY:Group Trance Medium Healing Circle
DESCRIPTION:You’re warmly invited into a shared space of trance medium healing and spiritual support\, held twice each month via Zoom. \nThese gatherings offer a calm and receptive environment to pause\, settle in\, and receive within a supportive group field. Each session unfolds naturally and may offer a sense of restoration\, clarity\, or quiet reconnection. \nOpen to both new and returning participants. \nSessions are included with the monthly healing circle membership and are recorded for replay access. \nJoin the Healing Circle
URL:https://jillseabourne.com/event/group-trance-medium-healing-2/2029-03-22/
END:VEVENT
BEGIN:VEVENT
DTSTART;TZID=America/Chicago:20290410T170000
DTEND;TZID=America/Chicago:20290410T173000
DTSTAMP:20260420T223824
CREATED:20241119T031532Z
LAST-MODIFIED:20260205T222609Z
UID:10000147-1870534800-1870536600@jillseabourne.com
SUMMARY:Group Trance Medium Healing Circle
DESCRIPTION:You’re warmly invited into a shared space of trance medium healing and spiritual support\, held twice each month via Zoom. \nThese gatherings offer a calm and receptive environment to pause\, settle in\, and receive within a supportive group field. Each session unfolds naturally and may offer a sense of restoration\, clarity\, or quiet reconnection. \nOpen to both new and returning participants. \nSessions are included with the monthly healing circle membership and are recorded for replay access. \nJoin the Healing Circle \n 
URL:https://jillseabourne.com/event/group-trance-medium-healing/2029-04-10/
END:VEVENT
BEGIN:VEVENT
DTSTART;TZID=America/Chicago:20290426T110000
DTEND;TZID=America/Chicago:20290426T113000
DTSTAMP:20260420T223824
CREATED:20241119T032753Z
LAST-MODIFIED:20260205T222352Z
UID:10000208-1871895600-1871897400@jillseabourne.com
SUMMARY:Group Trance Medium Healing Circle
DESCRIPTION:You’re warmly invited into a shared space of trance medium healing and spiritual support\, held twice each month via Zoom. \nThese gatherings offer a calm and receptive environment to pause\, settle in\, and receive within a supportive group field. Each session unfolds naturally and may offer a sense of restoration\, clarity\, or quiet reconnection. \nOpen to both new and returning participants. \nSessions are included with the monthly healing circle membership and are recorded for replay access. \nJoin the Healing Circle
URL:https://jillseabourne.com/event/group-trance-medium-healing-2/2029-04-26/
END:VEVENT
BEGIN:VEVENT
DTSTART;TZID=America/Chicago:20290508T170000
DTEND;TZID=America/Chicago:20290508T173000
DTSTAMP:20260420T223824
CREATED:20241119T031532Z
LAST-MODIFIED:20260205T222609Z
UID:10000148-1872954000-1872955800@jillseabourne.com
SUMMARY:Group Trance Medium Healing Circle
DESCRIPTION:You’re warmly invited into a shared space of trance medium healing and spiritual support\, held twice each month via Zoom. \nThese gatherings offer a calm and receptive environment to pause\, settle in\, and receive within a supportive group field. Each session unfolds naturally and may offer a sense of restoration\, clarity\, or quiet reconnection. \nOpen to both new and returning participants. \nSessions are included with the monthly healing circle membership and are recorded for replay access. \nJoin the Healing Circle \n 
URL:https://jillseabourne.com/event/group-trance-medium-healing/2029-05-08/
END:VEVENT
BEGIN:VEVENT
DTSTART;TZID=America/Chicago:20290524T110000
DTEND;TZID=America/Chicago:20290524T113000
DTSTAMP:20260420T223824
CREATED:20241119T032753Z
LAST-MODIFIED:20260205T222352Z
UID:10000209-1874314800-1874316600@jillseabourne.com
SUMMARY:Group Trance Medium Healing Circle
DESCRIPTION:You’re warmly invited into a shared space of trance medium healing and spiritual support\, held twice each month via Zoom. \nThese gatherings offer a calm and receptive environment to pause\, settle in\, and receive within a supportive group field. Each session unfolds naturally and may offer a sense of restoration\, clarity\, or quiet reconnection. \nOpen to both new and returning participants. \nSessions are included with the monthly healing circle membership and are recorded for replay access. \nJoin the Healing Circle
URL:https://jillseabourne.com/event/group-trance-medium-healing-2/2029-05-24/
END:VEVENT
BEGIN:VEVENT
DTSTART;TZID=America/Chicago:20290612T170000
DTEND;TZID=America/Chicago:20290612T173000
DTSTAMP:20260420T223824
CREATED:20241119T031532Z
LAST-MODIFIED:20260205T222609Z
UID:10000149-1875978000-1875979800@jillseabourne.com
SUMMARY:Group Trance Medium Healing Circle
DESCRIPTION:You’re warmly invited into a shared space of trance medium healing and spiritual support\, held twice each month via Zoom. \nThese gatherings offer a calm and receptive environment to pause\, settle in\, and receive within a supportive group field. Each session unfolds naturally and may offer a sense of restoration\, clarity\, or quiet reconnection. \nOpen to both new and returning participants. \nSessions are included with the monthly healing circle membership and are recorded for replay access. \nJoin the Healing Circle \n 
URL:https://jillseabourne.com/event/group-trance-medium-healing/2029-06-12/
END:VEVENT
BEGIN:VEVENT
DTSTART;TZID=America/Chicago:20290628T110000
DTEND;TZID=America/Chicago:20290628T113000
DTSTAMP:20260420T223824
CREATED:20241119T032753Z
LAST-MODIFIED:20260205T222352Z
UID:10000210-1877338800-1877340600@jillseabourne.com
SUMMARY:Group Trance Medium Healing Circle
DESCRIPTION:You’re warmly invited into a shared space of trance medium healing and spiritual support\, held twice each month via Zoom. \nThese gatherings offer a calm and receptive environment to pause\, settle in\, and receive within a supportive group field. Each session unfolds naturally and may offer a sense of restoration\, clarity\, or quiet reconnection. \nOpen to both new and returning participants. \nSessions are included with the monthly healing circle membership and are recorded for replay access. \nJoin the Healing Circle
URL:https://jillseabourne.com/event/group-trance-medium-healing-2/2029-06-28/
END:VEVENT
BEGIN:VEVENT
DTSTART;TZID=America/Chicago:20290710T170000
DTEND;TZID=America/Chicago:20290710T173000
DTSTAMP:20260420T223824
CREATED:20241119T031532Z
LAST-MODIFIED:20260205T222609Z
UID:10000150-1878397200-1878399000@jillseabourne.com
SUMMARY:Group Trance Medium Healing Circle
DESCRIPTION:You’re warmly invited into a shared space of trance medium healing and spiritual support\, held twice each month via Zoom. \nThese gatherings offer a calm and receptive environment to pause\, settle in\, and receive within a supportive group field. Each session unfolds naturally and may offer a sense of restoration\, clarity\, or quiet reconnection. \nOpen to both new and returning participants. \nSessions are included with the monthly healing circle membership and are recorded for replay access. \nJoin the Healing Circle \n 
URL:https://jillseabourne.com/event/group-trance-medium-healing/2029-07-10/
END:VEVENT
BEGIN:VEVENT
DTSTART;TZID=America/Chicago:20290726T110000
DTEND;TZID=America/Chicago:20290726T113000
DTSTAMP:20260420T223824
CREATED:20241119T032753Z
LAST-MODIFIED:20260205T222352Z
UID:10000211-1879758000-1879759800@jillseabourne.com
SUMMARY:Group Trance Medium Healing Circle
DESCRIPTION:You’re warmly invited into a shared space of trance medium healing and spiritual support\, held twice each month via Zoom. \nThese gatherings offer a calm and receptive environment to pause\, settle in\, and receive within a supportive group field. Each session unfolds naturally and may offer a sense of restoration\, clarity\, or quiet reconnection. \nOpen to both new and returning participants. \nSessions are included with the monthly healing circle membership and are recorded for replay access. \nJoin the Healing Circle
URL:https://jillseabourne.com/event/group-trance-medium-healing-2/2029-07-26/
END:VEVENT
BEGIN:VEVENT
DTSTART;TZID=America/Chicago:20290814T170000
DTEND;TZID=America/Chicago:20290814T173000
DTSTAMP:20260420T223824
CREATED:20241119T031532Z
LAST-MODIFIED:20260205T222609Z
UID:10000151-1881421200-1881423000@jillseabourne.com
SUMMARY:Group Trance Medium Healing Circle
DESCRIPTION:You’re warmly invited into a shared space of trance medium healing and spiritual support\, held twice each month via Zoom. \nThese gatherings offer a calm and receptive environment to pause\, settle in\, and receive within a supportive group field. Each session unfolds naturally and may offer a sense of restoration\, clarity\, or quiet reconnection. \nOpen to both new and returning participants. \nSessions are included with the monthly healing circle membership and are recorded for replay access. \nJoin the Healing Circle \n 
URL:https://jillseabourne.com/event/group-trance-medium-healing/2029-08-14/
END:VEVENT
END:VCALENDAR