BEGIN:VCALENDAR
VERSION:2.0
PRODID:-//Jill Seabourne - ECPv6.15.20//NONSGML v1.0//EN
CALSCALE:GREGORIAN
METHOD:PUBLISH
X-WR-CALNAME:Jill Seabourne
X-ORIGINAL-URL:https://jillseabourne.com
X-WR-CALDESC:Events for Jill Seabourne
REFRESH-INTERVAL;VALUE=DURATION:PT1H
X-Robots-Tag:noindex
X-PUBLISHED-TTL:PT1H
BEGIN:VTIMEZONE
TZID:America/Chicago
BEGIN:DAYLIGHT
TZOFFSETFROM:-0600
TZOFFSETTO:-0500
TZNAME:CDT
DTSTART:20240310T080000
END:DAYLIGHT
BEGIN:STANDARD
TZOFFSETFROM:-0500
TZOFFSETTO:-0600
TZNAME:CST
DTSTART:20241103T070000
END:STANDARD
BEGIN:DAYLIGHT
TZOFFSETFROM:-0600
TZOFFSETTO:-0500
TZNAME:CDT
DTSTART:20250309T080000
END:DAYLIGHT
BEGIN:STANDARD
TZOFFSETFROM:-0500
TZOFFSETTO:-0600
TZNAME:CST
DTSTART:20251102T070000
END:STANDARD
BEGIN:DAYLIGHT
TZOFFSETFROM:-0600
TZOFFSETTO:-0500
TZNAME:CDT
DTSTART:20260308T080000
END:DAYLIGHT
BEGIN:STANDARD
TZOFFSETFROM:-0500
TZOFFSETTO:-0600
TZNAME:CST
DTSTART:20261101T070000
END:STANDARD
END:VTIMEZONE
BEGIN:VEVENT
DTSTART;TZID=America/Chicago:20250212T110000
DTEND;TZID=America/Chicago:20250212T113000
DTSTAMP:20260419T213535
CREATED:20241123T023758Z
LAST-MODIFIED:20241123T024056Z
UID:10000220-1739358000-1739359800@jillseabourne.com
SUMMARY:Mindful Moments
DESCRIPTION:✨ Take a Mindful Moment ✨ \nFeeling overwhelmed by the mid-week hustle? Join me every other Wednesday for a free\, 30-minute meditation on Zoom! 🌿 These sessions are your opportunity to release stress\, refocus your mind\, and reconnect with the present moment. Click link below to register.
URL:https://jillseabourne.com/event/mindful-moments-2/2025-02-12/
END:VEVENT
END:VCALENDAR